BEGIN:VCALENDAR
VERSION:2.0
PRODID:-//Wren Training
CALSCALE:GREGORIAN
METHOD:PUBLISH
X-WR-CALNAME:Wren Training
X-ORIGINAL-URL:https://www.wrentraining.co.uk/product/first-aid-for-mental-health-2-day-2/
X-WR-CALDESC:First Aid For Mental Health &#8211; 2 day
BEGIN:VEVENT
DTSTART;TZID=Europe/Paris:20260526T090000
DTEND;TZID=Europe/Paris:20260527T170000
SUMMARY:First Aid For Mental Health – 2 day
DESCRIPTION:This 2-Day course goes into detail on a wide range of mental health conditions and the support and help provided by healthcare professionals.
URL:https://www.wrentraining.co.uk/product/first-aid-for-mental-health-2-day-2/
LOCATION:Wren Training Centre, Unit 2 Northgate, White Lund Industrial Estate, Morecambe LA3 3AY
END:VEVENT
END:VCALENDAR
