BEGIN:VCALENDAR
VERSION:2.0
PRODID:-//Wren Training
CALSCALE:GREGORIAN
METHOD:PUBLISH
X-WR-CALNAME:Wren Training
X-ORIGINAL-URL:https://www.wrentraining.co.uk/product/first-aid-for-mental-health-1-day-3/
X-WR-CALDESC:First Aid For Mental Health &#8211; 1 day
BEGIN:VEVENT
DTSTART;TZID=Europe/Paris:20260526T090000
DTEND;TZID=Europe/Paris:20260526T183000
SUMMARY:First Aid For Mental Health – 1 day
DESCRIPTION:This one day course  incorporates the First Aid for Mental Health Action Plan and covers ways in which a positive mental health culture can be supported within a workplace.
URL:https://www.wrentraining.co.uk/product/first-aid-for-mental-health-1-day-3/
LOCATION:Wren Training Centre, Unit 2 Northgate, White Lund Industrial Estate, Morecambe LA3 3AY
END:VEVENT
END:VCALENDAR
